Package: infercnv Version: 1.25.0 Command: chmod a+r infercnv -R && F:\biocbuild\bbs-3.22-bioc\R\bin\R.exe CMD build --keep-empty-dirs --no-resave-data infercnv StartedAt: 2025-07-24 20:01:09 -0400 (Thu, 24 Jul 2025) EndedAt: 2025-07-24 20:01:36 -0400 (Thu, 24 Jul 2025) EllapsedTime: 26.6 seconds RetCode: 1 Status: ERROR PackageFile: None PackageFileSize: NA