Package: infercnv Version: 1.25.0 Command: /home/biocbuild/bbs-3.22-bioc/R/bin/R CMD INSTALL infercnv StartedAt: 2025-07-22 18:11:08 -0400 (Tue, 22 Jul 2025) EndedAt: 2025-07-22 18:11:52 -0400 (Tue, 22 Jul 2025) EllapsedTime: 44.7 seconds RetCode: 0 Status: OK