Package: infercnv Version: 1.25.0 Command: /home/biocbuild/bbs-3.22-bioc/R/bin/R CMD check --install=check:infercnv.install-out.txt --library=/home/biocbuild/bbs-3.22-bioc/R/site-library --timings infercnv_1.25.0.tar.gz StartedAt: 2025-07-23 02:17:22 -0400 (Wed, 23 Jul 2025) EndedAt: 2025-07-23 02:25:54 -0400 (Wed, 23 Jul 2025) EllapsedTime: 511.5 seconds RetCode: 0 Status: OK CheckDir: infercnv.Rcheck Warnings: 0