Package: infercnv Version: 1.25.0 Command: /home/biocbuild/bbs-3.22-bioc/R/bin/R CMD build --keep-empty-dirs --no-resave-data --md5 infercnv StartedAt: 2025-07-22 20:35:06 -0400 (Tue, 22 Jul 2025) EndedAt: 2025-07-22 20:36:53 -0400 (Tue, 22 Jul 2025) EllapsedTime: 107.1 seconds RetCode: 0 Status: OK PackageFile: infercnv_1.25.0.tar.gz PackageFileSize: 3.945 MiB