Package: infercnv Version: 1.25.0 Command: /Library/Frameworks/R.framework/Resources/bin/R CMD INSTALL infercnv StartedAt: 2025-07-22 15:10:22 -0400 (Tue, 22 Jul 2025) EndedAt: 2025-07-22 15:10:40 -0400 (Tue, 22 Jul 2025) EllapsedTime: 17.8 seconds RetCode: 0 Status: OK