Package: infercnv Version: 1.25.0 Command: /Library/Frameworks/R.framework/Resources/bin/R CMD build --keep-empty-dirs --no-resave-data infercnv StartedAt: 2025-07-22 16:40:02 -0400 (Tue, 22 Jul 2025) EndedAt: 2025-07-22 16:40:48 -0400 (Tue, 22 Jul 2025) EllapsedTime: 46.5 seconds RetCode: 0 Status: OK PackageFile: infercnv_1.25.0.tar.gz PackageFileSize: 3.967 MiB