Package: infercnv Version: 1.25.0 Command: rm -rf infercnv.buildbin-libdir && mkdir infercnv.buildbin-libdir && /Users/biocbuild/BBS/utils/build-universal.sh infercnv_1.25.0.tar.gz /Library/Frameworks/R.framework/Resources/bin/R infercnv.buildbin-libdir StartedAt: 2025-07-22 22:28:00 -0400 (Tue, 22 Jul 2025) EndedAt: 2025-07-22 22:28:19 -0400 (Tue, 22 Jul 2025) EllapsedTime: 19.4 seconds RetCode: 0 Status: OK PackageFile: infercnv_1.25.0.tgz PackageFileSize: 4.347 MiB