Package: impute Version: 1.83.0 Command: /home/biocbuild/R/R/bin/R CMD INSTALL impute StartedAt: 2025-07-03 20:16:11 -0000 (Thu, 03 Jul 2025) EndedAt: 2025-07-03 20:16:28 -0000 (Thu, 03 Jul 2025) EllapsedTime: 16.2 seconds RetCode: 0 Status: OK