Package: impute Version: 1.83.0 Command: /home/biocbuild/R/R/bin/R CMD check --install=check:impute.install-out.txt --library=/home/biocbuild/R/R/site-library --no-vignettes --timings impute_1.83.0.tar.gz StartedAt: 2025-07-08 07:45:49 -0000 (Tue, 08 Jul 2025) EndedAt: 2025-07-08 07:46:06 -0000 (Tue, 08 Jul 2025) EllapsedTime: 17.0 seconds RetCode: 0 Status: WARNINGS CheckDir: impute.Rcheck Warnings: 1