Package: impute Version: 1.83.0 Command: chmod a+r impute -R && F:\biocbuild\bbs-3.22-bioc\R\bin\R.exe CMD build --keep-empty-dirs --no-resave-data impute StartedAt: 2025-07-06 19:44:16 -0400 (Sun, 06 Jul 2025) EndedAt: 2025-07-06 19:44:20 -0400 (Sun, 06 Jul 2025) EllapsedTime: 3.5 seconds RetCode: 0 Status: OK PackageFile: impute_1.83.0.tar.gz PackageFileSize: 626.6 KiB