Package: impute Version: 1.83.0 Command: /home/biocbuild/bbs-3.22-bioc/R/bin/R CMD build --keep-empty-dirs --no-resave-data --md5 impute StartedAt: 2025-07-15 17:40:40 -0400 (Tue, 15 Jul 2025) EndedAt: 2025-07-15 17:40:41 -0400 (Tue, 15 Jul 2025) EllapsedTime: 1.0 seconds RetCode: 0 Status: OK PackageFile: impute_1.83.0.tar.gz PackageFileSize: 626.9 KiB