Package: impute Version: 1.83.0 Command: /Library/Frameworks/R.framework/Resources/bin/R CMD build --keep-empty-dirs --no-resave-data impute StartedAt: 2025-07-06 17:10:05 -0400 (Sun, 06 Jul 2025) EndedAt: 2025-07-06 17:10:08 -0400 (Sun, 06 Jul 2025) EllapsedTime: 3.4 seconds RetCode: 0 Status: OK PackageFile: impute_1.83.0.tar.gz PackageFileSize: 626.6 KiB