Package: immunotation Version: 1.17.5 Command: /home/biocbuild/R/R/bin/R CMD INSTALL immunotation StartedAt: 2025-10-02 20:27:42 -0000 (Thu, 02 Oct 2025) EndedAt: 2025-10-02 20:30:02 -0000 (Thu, 02 Oct 2025) EllapsedTime: 140.1 seconds RetCode: 0 Status: OK