Package: immunotation Version: 1.17.5 Command: /home/biocbuild/R/R/bin/R CMD check --install=check:immunotation.install-out.txt --library=/home/biocbuild/R/R/site-library --no-vignettes --timings immunotation_1.17.5.tar.gz StartedAt: 2025-10-03 08:13:06 -0000 (Fri, 03 Oct 2025) EndedAt: 2025-10-03 08:19:05 -0000 (Fri, 03 Oct 2025) EllapsedTime: 358.5 seconds RetCode: 0 Status: OK CheckDir: immunotation.Rcheck Warnings: 0