Package: immunotation Version: 1.17.5 Command: /home/biocbuild/R/R/bin/R CMD build --keep-empty-dirs --no-resave-data immunotation StartedAt: 2025-10-03 00:44:37 -0000 (Fri, 03 Oct 2025) EndedAt: 2025-10-03 00:52:21 -0000 (Fri, 03 Oct 2025) EllapsedTime: 464.2 seconds RetCode: 0 Status: OK PackageFile: immunotation_1.17.5.tar.gz PackageFileSize: 2.127 MiB