Package: immunotation Version: 1.17.1 Command: /Library/Frameworks/R.framework/Resources/bin/R CMD build --keep-empty-dirs --no-resave-data immunotation StartedAt: 2025-07-14 17:19:42 -0400 (Mon, 14 Jul 2025) EndedAt: 2025-07-14 17:22:43 -0400 (Mon, 14 Jul 2025) EllapsedTime: 180.8 seconds RetCode: 1 Status: ERROR PackageFile: None PackageFileSize: NA