############################################################################## ############################################################################## ### ### Running command: ### ### rm -rf immunotation.buildbin-libdir && mkdir immunotation.buildbin-libdir && /Users/biocbuild/BBS/utils/build-universal.sh immunotation_1.17.0.tar.gz /Library/Frameworks/R.framework/Resources/bin/R immunotation.buildbin-libdir ### ############################################################################## ############################################################################## >>>>>>> >>>>>>> INSTALLATION WITH 'R CMD INSTALL --preclean --no-multiarch --library=immunotation.buildbin-libdir immunotation_1.17.0.tar.gz' >>>>>>> * installing *source* package ‘immunotation’ ... ** this is package ‘immunotation’ version ‘1.17.0’ ** using staged installation ** R ** inst ** byte-compile and prepare package for lazy loading Warning: Failed to open 'https://services.healthtech.dtu.dk/services/NetMHCpan-4.1/allele.list': SSL certificate problem: certificate has expired Warning: Failed to open 'https://services.healthtech.dtu.dk/services/NetMHCpan-4.1/allele.list': SSL certificate problem: certificate has expired Error in getURL(URL = "https://services.healthtech.dtu.dk/services/NetMHCpan-4.1/allele.list", : 'getURL()' failed: URL: https://services.healthtech.dtu.dk/services/NetMHCpan-4.1/allele.list error: cannot open the connection Error: unable to load R code in package ‘immunotation’ Execution halted ERROR: lazy loading failed for package ‘immunotation’ * removing ‘/Users/biocbuild/bbs-3.22-bioc/meat/immunotation.buildbin-libdir/immunotation’