Package: immunotation Version: 1.17.0 Command: /Library/Frameworks/R.framework/Resources/bin/R CMD check --install=check:immunotation.install-out.txt --library=/Library/Frameworks/R.framework/Resources/library --no-vignettes --timings immunotation_1.17.0.tar.gz StartedAt: 2025-05-08 20:07:41 -0400 (Thu, 08 May 2025) EndedAt: 2025-05-08 20:11:13 -0400 (Thu, 08 May 2025) EllapsedTime: 212.5 seconds RetCode: 0 Status: OK CheckDir: immunotation.Rcheck Warnings: 0