Package: immunogenViewer Version: 1.3.1 Command: /home/biocbuild/R/R/bin/R CMD check --install=check:immunogenViewer.install-out.txt --library=/home/biocbuild/R/R/site-library --no-vignettes --timings immunogenViewer_1.3.1.tar.gz StartedAt: 2025-07-11 09:17:04 -0000 (Fri, 11 Jul 2025) EndedAt: 2025-07-11 09:19:59 -0000 (Fri, 11 Jul 2025) EllapsedTime: 175.2 seconds RetCode: 0 Status: OK CheckDir: immunogenViewer.Rcheck Warnings: 0