Package: immunogenViewer Version: 1.3.0 Command: F:\biocbuild\bbs-3.22-bioc\R\bin\R.exe CMD INSTALL immunogenViewer StartedAt: 2025-07-01 15:47:46 -0400 (Tue, 01 Jul 2025) EndedAt: 2025-07-01 15:48:24 -0400 (Tue, 01 Jul 2025) EllapsedTime: 37.9 seconds RetCode: 0 Status: OK