Package: immunoClust Version: 1.41.0 Command: /Library/Frameworks/R.framework/Resources/bin/R CMD INSTALL immunoClust StartedAt: 2025-07-20 15:24:30 -0400 (Sun, 20 Jul 2025) EndedAt: 2025-07-20 15:25:02 -0400 (Sun, 20 Jul 2025) EllapsedTime: 32.4 seconds RetCode: 0 Status: OK