Package: immunoClust Version: 1.41.0 Command: /Library/Frameworks/R.framework/Resources/bin/R CMD check --install=check:immunoClust.install-out.txt --library=/Library/Frameworks/R.framework/Resources/library --no-vignettes --timings immunoClust_1.41.0.tar.gz StartedAt: 2025-07-21 21:22:53 -0400 (Mon, 21 Jul 2025) EndedAt: 2025-07-21 21:26:08 -0400 (Mon, 21 Jul 2025) EllapsedTime: 195.1 seconds RetCode: 0 Status: OK CheckDir: immunoClust.Rcheck Warnings: 0