Package: immunoClust Version: 1.41.0 Command: /Library/Frameworks/R.framework/Resources/bin/R CMD build --keep-empty-dirs --no-resave-data immunoClust StartedAt: 2025-07-20 17:20:29 -0400 (Sun, 20 Jul 2025) EndedAt: 2025-07-20 17:24:28 -0400 (Sun, 20 Jul 2025) EllapsedTime: 239.4 seconds RetCode: 0 Status: OK PackageFile: immunoClust_1.41.0.tar.gz PackageFileSize: 2.499 MiB