Package: immunoClust Version: 1.41.0 Command: /Library/Frameworks/R.framework/Resources/bin/R CMD check --install=check:immunoClust.install-out.txt --library=/Library/Frameworks/R.framework/Resources/library --no-vignettes --timings immunoClust_1.41.0.tar.gz StartedAt: 2025-07-14 19:44:03 -0400 (Mon, 14 Jul 2025) EndedAt: 2025-07-14 19:45:17 -0400 (Mon, 14 Jul 2025) EllapsedTime: 73.9 seconds RetCode: 0 Status: OK CheckDir: immunoClust.Rcheck Warnings: 0