Package: immunoClust Version: 1.41.0 Command: /Library/Frameworks/R.framework/Resources/bin/R CMD build --keep-empty-dirs --no-resave-data immunoClust StartedAt: 2025-07-14 16:39:25 -0400 (Mon, 14 Jul 2025) EndedAt: 2025-07-14 16:41:00 -0400 (Mon, 14 Jul 2025) EllapsedTime: 95.0 seconds RetCode: 0 Status: OK PackageFile: immunoClust_1.41.0.tar.gz PackageFileSize: 2.507 MiB