Package: immunoClust Version: 1.41.0 Command: rm -rf immunoClust.buildbin-libdir && mkdir immunoClust.buildbin-libdir && /Users/biocbuild/BBS/utils/build-universal.sh immunoClust_1.41.0.tar.gz /Library/Frameworks/R.framework/Resources/bin/R immunoClust.buildbin-libdir StartedAt: 2025-07-14 22:22:34 -0400 (Mon, 14 Jul 2025) EndedAt: 2025-07-14 22:22:46 -0400 (Mon, 14 Jul 2025) EllapsedTime: 11.2 seconds RetCode: 0 Status: OK PackageFile: immunoClust_1.41.0.tgz PackageFileSize: 3.278 MiB