Package: imcRtools Version: 1.15.3 Command: /home/biocbuild/R/R/bin/R CMD INSTALL imcRtools StartedAt: 2025-10-02 21:03:27 -0000 (Thu, 02 Oct 2025) EndedAt: 2025-10-02 21:04:42 -0000 (Thu, 02 Oct 2025) EllapsedTime: 75.2 seconds RetCode: 0 Status: OK