Package: imcRtools Version: 1.15.3 Command: /home/biocbuild/R/R/bin/R CMD check --install=check:imcRtools.install-out.txt --library=/home/biocbuild/R/R/site-library --no-vignettes --timings imcRtools_1.15.3.tar.gz StartedAt: 2025-10-03 08:12:11 -0000 (Fri, 03 Oct 2025) EndedAt: 2025-10-03 08:41:11 -0000 (Fri, 03 Oct 2025) EllapsedTime: 1739.7 seconds RetCode: 0 Status: OK CheckDir: imcRtools.Rcheck Warnings: 0