Package: imcRtools Version: 1.15.0 Command: F:\biocbuild\bbs-3.22-bioc\R\bin\R.exe CMD check --no-multiarch --install=check:imcRtools.install-out.txt --library=F:\biocbuild\bbs-3.22-bioc\R\library --no-vignettes --timings imcRtools_1.15.0.tar.gz StartedAt: 2025-08-15 04:18:12 -0400 (Fri, 15 Aug 2025) EndedAt: 2025-08-15 04:44:17 -0400 (Fri, 15 Aug 2025) EllapsedTime: 1564.7 seconds RetCode: 0 Status: OK CheckDir: imcRtools.Rcheck Warnings: 0