Package: imcRtools Version: 1.15.0 Command: chmod a+r imcRtools -R && F:\biocbuild\bbs-3.22-bioc\R\bin\R.exe CMD build --keep-empty-dirs --no-resave-data imcRtools StartedAt: 2025-08-14 20:54:40 -0400 (Thu, 14 Aug 2025) EndedAt: 2025-08-14 20:59:03 -0400 (Thu, 14 Aug 2025) EllapsedTime: 263.1 seconds RetCode: 0 Status: OK PackageFile: imcRtools_1.15.0.tar.gz PackageFileSize: 2.205 MiB