Package: imcRtools Version: 1.15.0 Command: rm -rf imcRtools.buildbin-libdir && mkdir imcRtools.buildbin-libdir && F:\biocbuild\bbs-3.22-bioc\R\bin\R.exe CMD INSTALL --build --library=imcRtools.buildbin-libdir imcRtools_1.15.0.tar.gz StartedAt: 2025-08-15 10:30:10 -0400 (Fri, 15 Aug 2025) EndedAt: 2025-08-15 10:31:54 -0400 (Fri, 15 Aug 2025) EllapsedTime: 103.4 seconds RetCode: 0 Status: OK PackageFile: imcRtools_1.15.0.zip PackageFileSize: 2.03 MiB