Package: imageTCGA Version: 1.1.0 Command: /home/biocbuild/R/R/bin/R CMD INSTALL imageTCGA StartedAt: 2025-10-02 20:30:20 -0000 (Thu, 02 Oct 2025) EndedAt: 2025-10-02 20:30:54 -0000 (Thu, 02 Oct 2025) EllapsedTime: 33.9 seconds RetCode: 0 Status: OK