Package: imageTCGA Version: 1.1.0 Command: /home/biocbuild/R/R/bin/R CMD check --install=check:imageTCGA.install-out.txt --library=/home/biocbuild/R/R/site-library --no-vignettes --timings imageTCGA_1.1.0.tar.gz StartedAt: 2025-10-07 08:51:33 -0000 (Tue, 07 Oct 2025) EndedAt: 2025-10-07 08:52:30 -0000 (Tue, 07 Oct 2025) EllapsedTime: 57.1 seconds RetCode: 0 Status: OK CheckDir: imageTCGA.Rcheck Warnings: 0