Package: imageTCGA Version: 1.1.0 Command: rm -rf imageTCGA.buildbin-libdir && mkdir imageTCGA.buildbin-libdir && /Users/biocbuild/BBS/utils/build-universal.sh imageTCGA_1.1.0.tar.gz /Library/Frameworks/R.framework/Resources/bin/R imageTCGA.buildbin-libdir StartedAt: 2025-07-16 22:21:40 -0400 (Wed, 16 Jul 2025) EndedAt: 2025-07-16 22:21:43 -0400 (Wed, 16 Jul 2025) EllapsedTime: 3.1 seconds RetCode: 0 Status: OK PackageFile: imageTCGA_1.1.0.tgz PackageFileSize: 1.832 MiB