Package: illuminaio Version: 0.51.0 Command: /home/biocbuild/R/R/bin/R CMD build --keep-empty-dirs --no-resave-data illuminaio StartedAt: 2025-07-22 00:28:32 -0000 (Tue, 22 Jul 2025) EndedAt: 2025-07-22 00:28:44 -0000 (Tue, 22 Jul 2025) EllapsedTime: 12.0 seconds RetCode: 0 Status: OK PackageFile: illuminaio_0.51.0.tar.gz PackageFileSize: 380.7 KiB