Package: illuminaio Version: 0.51.0 Command: F:\biocbuild\bbs-3.22-bioc\R\bin\R.exe CMD INSTALL illuminaio StartedAt: 2025-07-24 15:26:20 -0400 (Thu, 24 Jul 2025) EndedAt: 2025-07-24 15:26:36 -0400 (Thu, 24 Jul 2025) EllapsedTime: 16.7 seconds RetCode: 0 Status: OK