Package: illuminaio Version: 0.51.0 Command: /Library/Frameworks/R.framework/Resources/bin/R CMD INSTALL illuminaio StartedAt: 2025-07-11 15:04:35 -0400 (Fri, 11 Jul 2025) EndedAt: 2025-07-11 15:04:47 -0400 (Fri, 11 Jul 2025) EllapsedTime: 12.7 seconds RetCode: 0 Status: OK