Package: illuminaio Version: 0.51.0 Command: /Library/Frameworks/R.framework/Resources/bin/R CMD build --keep-empty-dirs --no-resave-data illuminaio StartedAt: 2025-07-11 17:16:25 -0400 (Fri, 11 Jul 2025) EndedAt: 2025-07-11 17:16:48 -0400 (Fri, 11 Jul 2025) EllapsedTime: 23.0 seconds RetCode: 0 Status: OK PackageFile: illuminaio_0.51.0.tar.gz PackageFileSize: 427.3 KiB