Package: igvShiny Version: 1.5.0 Command: /Library/Frameworks/R.framework/Resources/bin/R CMD check --install=check:igvShiny.install-out.txt --library=/Library/Frameworks/R.framework/Resources/library --no-vignettes --timings igvShiny_1.5.0.tar.gz StartedAt: 2025-07-13 19:41:48 -0400 (Sun, 13 Jul 2025) EndedAt: 2025-07-13 19:42:33 -0400 (Sun, 13 Jul 2025) EllapsedTime: 45.6 seconds RetCode: 0 Status: OK CheckDir: igvShiny.Rcheck Warnings: 0