Package: igblastr Version: 0.99.5 Command: /home/biocbuild/R/R/bin/R CMD INSTALL igblastr StartedAt: 2025-06-05 20:45:20 -0000 (Thu, 05 Jun 2025) EndedAt: 2025-06-05 20:45:38 -0000 (Thu, 05 Jun 2025) EllapsedTime: 17.5 seconds RetCode: 0 Status: OK