Package: idr2d Version: 1.23.0 Command: /home/biocbuild/R/R/bin/R CMD INSTALL idr2d StartedAt: 2025-06-26 20:47:38 -0000 (Thu, 26 Jun 2025) EndedAt: 2025-06-26 20:47:58 -0000 (Thu, 26 Jun 2025) EllapsedTime: 20.0 seconds RetCode: 0 Status: OK