Package: idr2d Version: 1.23.0 Command: chmod a+r idr2d -R && F:\biocbuild\bbs-3.22-bioc\R\bin\R.exe CMD build --keep-empty-dirs --no-resave-data idr2d StartedAt: 2025-07-14 19:44:49 -0400 (Mon, 14 Jul 2025) EndedAt: 2025-07-14 19:45:31 -0400 (Mon, 14 Jul 2025) EllapsedTime: 41.8 seconds RetCode: 0 Status: OK PackageFile: idr2d_1.23.0.tar.gz PackageFileSize: 1.217 MiB