Package: idr2d Version: 1.23.0 Command: rm -rf idr2d.buildbin-libdir && mkdir idr2d.buildbin-libdir && F:\biocbuild\bbs-3.22-bioc\R\bin\R.exe CMD INSTALL --build --library=idr2d.buildbin-libdir idr2d_1.23.0.tar.gz StartedAt: 2025-07-15 09:09:42 -0400 (Tue, 15 Jul 2025) EndedAt: 2025-07-15 09:10:12 -0400 (Tue, 15 Jul 2025) EllapsedTime: 30.6 seconds RetCode: 0 Status: OK PackageFile: idr2d_1.23.0.zip PackageFileSize: 1.353 MiB