Package: idpr Version: 1.19.0 Command: /home/biocbuild/R/R/bin/R CMD check --install=check:idpr.install-out.txt --library=/home/biocbuild/R/R/site-library --no-vignettes --timings idpr_1.19.0.tar.gz StartedAt: 2025-07-22 08:24:54 -0000 (Tue, 22 Jul 2025) EndedAt: 2025-07-22 08:25:51 -0000 (Tue, 22 Jul 2025) EllapsedTime: 57.1 seconds RetCode: 0 Status: OK CheckDir: idpr.Rcheck Warnings: 0