Package: idpr Version: 1.19.0 Command: /Library/Frameworks/R.framework/Resources/bin/R CMD check --install=check:idpr.install-out.txt --library=/Library/Frameworks/R.framework/Resources/library --no-vignettes --timings idpr_1.19.0.tar.gz StartedAt: 2025-10-10 19:58:05 -0400 (Fri, 10 Oct 2025) EndedAt: 2025-10-10 19:58:30 -0400 (Fri, 10 Oct 2025) EllapsedTime: 24.3 seconds RetCode: 0 Status: OK CheckDir: idpr.Rcheck Warnings: 0