Package: ideal Version: 2.3.0 Command: F:\biocbuild\bbs-3.22-bioc\R\bin\R.exe CMD INSTALL ideal StartedAt: 2025-07-09 17:35:33 -0400 (Wed, 09 Jul 2025) EndedAt: 2025-07-09 17:36:48 -0400 (Wed, 09 Jul 2025) EllapsedTime: 75.5 seconds RetCode: 0 Status: OK