Package: icetea Version: 1.27.0 Command: /Library/Frameworks/R.framework/Resources/bin/R CMD build --keep-empty-dirs --no-resave-data icetea StartedAt: 2025-07-01 17:20:12 -0400 (Tue, 01 Jul 2025) EndedAt: 2025-07-01 17:22:02 -0400 (Tue, 01 Jul 2025) EllapsedTime: 109.6 seconds RetCode: 1 Status: ERROR PackageFile: None PackageFileSize: NA