Package: icetea Version: 1.27.0 Command: rm -rf icetea.buildbin-libdir && mkdir icetea.buildbin-libdir && /Users/biocbuild/BBS/utils/build-universal.sh icetea_1.27.0.tar.gz /Library/Frameworks/R.framework/Resources/bin/R icetea.buildbin-libdir StartedAt: 2025-06-21 01:00:17 -0400 (Sat, 21 Jun 2025) EndedAt: 2025-06-21 01:01:26 -0400 (Sat, 21 Jun 2025) EllapsedTime: 69.3 seconds RetCode: 0 Status: OK PackageFile: icetea_1.27.0.tgz PackageFileSize: 1.111 MiB