Package: icetea Version: 1.27.1 Command: rm -rf icetea.buildbin-libdir && mkdir icetea.buildbin-libdir && /Users/biocbuild/BBS/utils/build-universal.sh icetea_1.27.1.tar.gz /Library/Frameworks/R.framework/Resources/bin/R icetea.buildbin-libdir StartedAt: 2025-07-24 22:35:43 -0400 (Thu, 24 Jul 2025) EndedAt: 2025-07-24 22:36:04 -0400 (Thu, 24 Jul 2025) EllapsedTime: 21.5 seconds RetCode: 0 Status: OK PackageFile: icetea_1.27.1.tgz PackageFileSize: 1.114 MiB