Package: ibh Version: 1.57.0 Command: F:\biocbuild\bbs-3.22-bioc\R\bin\R.exe CMD INSTALL ibh StartedAt: 2025-07-13 15:23:58 -0400 (Sun, 13 Jul 2025) EndedAt: 2025-07-13 15:24:15 -0400 (Sun, 13 Jul 2025) EllapsedTime: 16.7 seconds RetCode: 0 Status: OK